BEGIN:VCALENDAR
VERSION:2.0
PRODID:gruene-teltow.de
METHOD:PUBLISH
BEGIN:VTIMEZONE
TZID:Europe/Berlin
X-LIC-LOCATION:Europe/Berlin
BEGIN:DAYLIGHT
TZOFFSETFROM:+0100
TZOFFSETTO:+0200
TZNAME:CEST
DTSTART:19700329T020000
RRULE:FREQ=YEARLY;INTERVAL=1;BYDAY=-1SU;BYMONTH=3
END:DAYLIGHT
BEGIN:STANDARD
TZOFFSETFROM:+0200
TZOFFSETTO:+0100
TZNAME:CET
DTSTART:19701025T030000
RRULE:FREQ=YEARLY;INTERVAL=1;BYDAY=-1SU;BYMONTH=10
END:STANDARD
END:VTIMEZONE
BEGIN:VEVENT
UID:46f1e46158a1f431c237b29a87f1272e@gruene-teltow.de
URL;VALUE=URI:https://gruene-teltow.de/termine/mitgliederversammlung-am-1
 7-januar-2024/
LOCATION:JTT, Osdorfer Str. 9a, Teltow
SUMMARY:Mitgliederversammlung am 17. Januar 2024
DESCRIPTION;ALTREP="data:text/html,%0A%3Cp%3EGleich%20zu%20Beginn%20des%2
 0neuen%20Jahres%20wollen%20wir%20uns%20zu%20unserer%201.%20Mitgliedervers
 ammlung%20treffen%2C%20und%20zwar%20um%2019%3A00%20Uhr%20im%20JTT%2C%20Os
 dorfer%20Stra%C3%9Fe%209a%20in%2014513%20Teltow.%20Herzlich%20eingeladen%
 20sind%20alle%20Mitglieder%20des%20Ortsverbandes%20B%C3%9CNDNIS%2090%2FDI
 E%20GR%C3%9CNEN%20und%20%E2%80%93%20nat%C3%BCrlich%20wie%20immer%20%E2%80
 %93%20Freundinnen%20und%20Freunde%20des%20Ortsverbandes%20sowie%20Interes
 sierte%20an%20Gr%C3%BCner%20Politik%20in%20Teltow.%20Wir%20haben%20ein%20
 spannendes%20%28Wahl-%29%20Jahr%20vor%20uns%2C%20beginnend%20mit%20der%20
 Kommunalwahl%20und%20der%20zeitgleich%20stattfindenden%20Europawahl%20am%
 2009.06.2024.%20In%20der%201.%20Mitgliederversammlung%202024%20wollen%20w
 ir%20die%20Aufstellungsversammlung%2C%20die%20am%2014.02.2024%20stattfind
 en%20wird%2C%20vorbereiten%20und%20zugleich%20einen%20Ausblick%20auf%20da
 s%20Wahljahr%20geben.%3C%2Fp%3E%0A":Gleich zu Beginn des neuen Jahres wol
 len wir uns zu unserer 1. Mitgliederversammlung treffen\, und zwar um 19:
 00 Uhr im JTT\, Osdorfer Straße 9a in 14513 Teltow. Herzlich eingeladen 
 sind alle Mitglieder des Ortsverbandes BÜNDNIS 90/DIE GRÜNEN und – na
 türlich wie immer – Freundinnen und Freunde des Ortsverbandes sowie In
 teressierte an Grüner Politik in Teltow. Wir haben ein spannendes (Wahl-
 ) Jahr vor uns\, beginnend mit der Kommunalwahl und der zeitgleich stattf
 indenden Europawahl am 09.06.2024. In der 1. Mitgliederversammlung 2024 w
 ollen wir die Aufstellungsversammlung\, die am 14.02.2024 stattfinden wir
 d\, vorbereiten und zugleich einen Ausblick auf das Wahljahr geben.
CLASS:PUBLIC
DTSTART;TZID=Europe/Berlin:20240117T190000
DTEND;TZID=Europe/Berlin:20240117T210000
DTSTAMP:20260420T102629
END:VEVENT
END:VCALENDAR