BEGIN:VCALENDAR
VERSION:2.0
PRODID:gruene-teltow.de
METHOD:PUBLISH
BEGIN:VTIMEZONE
TZID:Europe/Berlin
X-LIC-LOCATION:Europe/Berlin
BEGIN:DAYLIGHT
TZOFFSETFROM:+0100
TZOFFSETTO:+0200
TZNAME:CEST
DTSTART:19700329T020000
RRULE:FREQ=YEARLY;INTERVAL=1;BYDAY=-1SU;BYMONTH=3
END:DAYLIGHT
BEGIN:STANDARD
TZOFFSETFROM:+0200
TZOFFSETTO:+0100
TZNAME:CET
DTSTART:19701025T030000
RRULE:FREQ=YEARLY;INTERVAL=1;BYDAY=-1SU;BYMONTH=10
END:STANDARD
END:VTIMEZONE
BEGIN:VEVENT
UID:cf800a469874628fd52ef5813d6cc0fa@gruene-teltow.de
URL;VALUE=URI:https://gruene-teltow.de/termine/jahresabschlussfeier-2/
LOCATION:Trattoria Vino e Cucina, Oderstraße 45, Teltow
SUMMARY:Jahresabschluss am 21.12.2023 um 17:00 Uhr
DESCRIPTION;ALTREP="data:text/html,%0A%3Cp%3EIn%20einer%20gem%C3%BCtliche
 n%20Runde%20im%20Ital.%20Retaurant%20%E2%80%9ETrattoria%20Vino%20e%20Cuci
 na%E2%80%9C%2C%20Oderstra%C3%9Fe%2045%2C%2014513%20Teltow%20m%C3%B6chten%
 20wir%20gemeinsam%20mit%20Euch%20das%20Jahr%202023%20ausklingen%20lassen%
 20und%20einen%20Ausblick%20auf%20das%20herausfordernde%20Neue%20Jahr%2020
 24%20wagen.%20Wir%20freuen%20uns%20auf%20Euer%20zahlreiches%20Erscheinen.
 %20%3C%2Fp%3E%0A":In einer gemütlichen Runde im Ital. Retaurant „Tratt
 oria Vino e Cucina“\, Oderstraße 45\, 14513 Teltow möchten wir gemein
 sam mit Euch das Jahr 2023 ausklingen lassen und einen Ausblick auf das h
 erausfordernde Neue Jahr 2024 wagen. Wir freuen uns auf Euer zahlreiches 
 Erscheinen.
CLASS:PUBLIC
DTSTART;TZID=Europe/Berlin:20231221T170000
DTEND;TZID=Europe/Berlin:20231221T220000
DTSTAMP:20260420T202117
END:VEVENT
END:VCALENDAR