BEGIN:VCALENDAR
VERSION:2.0
PRODID:gruene-teltow.de
METHOD:PUBLISH
BEGIN:VTIMEZONE
TZID:Europe/Berlin
X-LIC-LOCATION:Europe/Berlin
BEGIN:DAYLIGHT
TZOFFSETFROM:+0100
TZOFFSETTO:+0200
TZNAME:CEST
DTSTART:19700329T020000
RRULE:FREQ=YEARLY;INTERVAL=1;BYDAY=-1SU;BYMONTH=3
END:DAYLIGHT
BEGIN:STANDARD
TZOFFSETFROM:+0200
TZOFFSETTO:+0100
TZNAME:CET
DTSTART:19701025T030000
RRULE:FREQ=YEARLY;INTERVAL=1;BYDAY=-1SU;BYMONTH=10
END:STANDARD
END:VTIMEZONE
BEGIN:VEVENT
UID:fd937115438afc3e2252c7ea018aebbb@gruene-teltow.de
URL;VALUE=URI:https://gruene-teltow.de/termine/frauen-bildet-banden-tks/
LOCATION:Philantow, Mahlower Straße 139, Teltow
SUMMARY:„Frauen bildet Banden TKS“
DESCRIPTION;ALTREP="data:text/html,%0A%3Cp%3EAm%2012.05.2026%20um%2019%3A
 00%20Uhr%20k%C3%B6nnt%20ihr%20eure%20Bundestagsabgeordnete%20Dr.%20Andrea
 %20L%C3%BCbcke%20treffen%20und%20ihr%20Fragen%20stellen%2C%20die%20euch%2
 0unter%20den%20N%C3%A4geln%20brennen.%3C%2Fp%3E%0A%0A%0A%0A%3Cp%3E%3Cstro
 ng%3EWann%3F%3C%2Fstrong%3E%2012.%20Mai%2020.06.2013%20um%2019%3A00%20Uhr
 %3C%2Fp%3E%0A%0A%0A%0A%3Cp%3E%3Cstrong%3EWo%3F%3C%2Fstrong%3E%20Familienz
 entrum%20Philantow%2C%20Mahlower%20Stra%C3%9Fe%20139%20in%20Teltow%3C%2Fp
 %3E%0A%0A%0A%0A%3Cp%3E%3C%2Fp%3E%0A":Am 12.05.2026 um 19:00 Uhr könnt ih
 r eure Bundestagsabgeordnete Dr. Andrea Lübcke treffen und ihr Fragen st
 ellen\, die euch unter den Nägeln brennen.\n\nWann? 12. Mai 20.06.2013 u
 m 19:00 Uhr\n\nWo? Familienzentrum Philantow\, Mahlower Straße 139 in Te
 ltow
CLASS:PUBLIC
DTSTART;TZID=Europe/Berlin:20260512T190000
DTEND;TZID=Europe/Berlin:20260512T210000
DTSTAMP:20260424T161458
END:VEVENT
END:VCALENDAR